BEGIN:VCALENDAR
VERSION:2.0
PRODID:-//The Lighthouse Inn - ECPv6.15.18//NONSGML v1.0//EN
CALSCALE:GREGORIAN
METHOD:PUBLISH
X-WR-CALNAME:The Lighthouse Inn
X-ORIGINAL-URL:https://lighthouseinn.com
X-WR-CALDESC:Events for The Lighthouse Inn
REFRESH-INTERVAL;VALUE=DURATION:PT1H
X-Robots-Tag:noindex
X-PUBLISHED-TTL:PT1H
BEGIN:VTIMEZONE
TZID:America/New_York
BEGIN:DAYLIGHT
TZOFFSETFROM:-0500
TZOFFSETTO:-0400
TZNAME:EDT
DTSTART:20210314T070000
END:DAYLIGHT
BEGIN:STANDARD
TZOFFSETFROM:-0400
TZOFFSETTO:-0500
TZNAME:EST
DTSTART:20211107T060000
END:STANDARD
BEGIN:DAYLIGHT
TZOFFSETFROM:-0500
TZOFFSETTO:-0400
TZNAME:EDT
DTSTART:20220313T070000
END:DAYLIGHT
BEGIN:STANDARD
TZOFFSETFROM:-0400
TZOFFSETTO:-0500
TZNAME:EST
DTSTART:20221106T060000
END:STANDARD
BEGIN:DAYLIGHT
TZOFFSETFROM:-0500
TZOFFSETTO:-0400
TZNAME:EDT
DTSTART:20230312T070000
END:DAYLIGHT
BEGIN:STANDARD
TZOFFSETFROM:-0400
TZOFFSETTO:-0500
TZNAME:EST
DTSTART:20231105T060000
END:STANDARD
END:VTIMEZONE
BEGIN:VEVENT
DTSTART;TZID=America/New_York:20220914T080000
DTEND;TZID=America/New_York:20220914T093000
DTSTAMP:20260420T114941
CREATED:20220415T155252Z
LAST-MODIFIED:20220415T160745Z
UID:10000727-1663142400-1663147800@lighthouseinn.com
SUMMARY:Waterfront Restaurant Breakfast
DESCRIPTION:Waterfront Restaurant open for breakfast 8-9:30am
URL:https://lighthouseinn.com/event/waterfront-restaurant-breakfast/2022-09-14/
CATEGORIES:Dining Schedule
ATTACH;FMTTYPE=image/jpeg:https://lighthouseinn.com/wp-content/uploads/2022/04/1-157-scaled.jpg
END:VEVENT
BEGIN:VEVENT
DTSTART;TZID=America/New_York:20220913T080000
DTEND;TZID=America/New_York:20220913T093000
DTSTAMP:20260420T114941
CREATED:20220415T155252Z
LAST-MODIFIED:20220415T160745Z
UID:10000726-1663056000-1663061400@lighthouseinn.com
SUMMARY:Waterfront Restaurant Breakfast
DESCRIPTION:Waterfront Restaurant open for breakfast 8-9:30am
URL:https://lighthouseinn.com/event/waterfront-restaurant-breakfast/2022-09-13/
CATEGORIES:Dining Schedule
ATTACH;FMTTYPE=image/jpeg:https://lighthouseinn.com/wp-content/uploads/2022/04/1-157-scaled.jpg
END:VEVENT
BEGIN:VEVENT
DTSTART;TZID=America/New_York:20220912T080000
DTEND;TZID=America/New_York:20220912T093000
DTSTAMP:20260420T114941
CREATED:20220415T155252Z
LAST-MODIFIED:20220415T160745Z
UID:10000725-1662969600-1662975000@lighthouseinn.com
SUMMARY:Waterfront Restaurant Breakfast
DESCRIPTION:Waterfront Restaurant open for breakfast 8-9:30am
URL:https://lighthouseinn.com/event/waterfront-restaurant-breakfast/2022-09-12/
CATEGORIES:Dining Schedule
ATTACH;FMTTYPE=image/jpeg:https://lighthouseinn.com/wp-content/uploads/2022/04/1-157-scaled.jpg
END:VEVENT
BEGIN:VEVENT
DTSTART;TZID=America/New_York:20220911T080000
DTEND;TZID=America/New_York:20220911T093000
DTSTAMP:20260420T114941
CREATED:20220415T155252Z
LAST-MODIFIED:20220415T160745Z
UID:10000724-1662883200-1662888600@lighthouseinn.com
SUMMARY:Waterfront Restaurant Breakfast
DESCRIPTION:Waterfront Restaurant open for breakfast 8-9:30am
URL:https://lighthouseinn.com/event/waterfront-restaurant-breakfast/2022-09-11/
CATEGORIES:Dining Schedule
ATTACH;FMTTYPE=image/jpeg:https://lighthouseinn.com/wp-content/uploads/2022/04/1-157-scaled.jpg
END:VEVENT
BEGIN:VEVENT
DTSTART;TZID=America/New_York:20220910T080000
DTEND;TZID=America/New_York:20220910T093000
DTSTAMP:20260420T114941
CREATED:20220415T155252Z
LAST-MODIFIED:20220415T160745Z
UID:10000723-1662796800-1662802200@lighthouseinn.com
SUMMARY:Waterfront Restaurant Breakfast
DESCRIPTION:Waterfront Restaurant open for breakfast 8-9:30am
URL:https://lighthouseinn.com/event/waterfront-restaurant-breakfast/2022-09-10/
CATEGORIES:Dining Schedule
ATTACH;FMTTYPE=image/jpeg:https://lighthouseinn.com/wp-content/uploads/2022/04/1-157-scaled.jpg
END:VEVENT
BEGIN:VEVENT
DTSTART;TZID=America/New_York:20220909T120000
DTEND;TZID=America/New_York:20220909T150000
DTSTAMP:20260420T114941
CREATED:20220415T170652Z
LAST-MODIFIED:20220415T171118Z
UID:10000788-1662724800-1662735600@lighthouseinn.com
SUMMARY:Waterfront Restaurant Lunch
DESCRIPTION:Waterfront Restaurant Lunch open 12-3pm
URL:https://lighthouseinn.com/event/waterfront-restaurant-lunch-3/2022-09-09/
CATEGORIES:Dining Schedule
ATTACH;FMTTYPE=image/jpeg:https://lighthouseinn.com/wp-content/uploads/2022/01/DSC03825-scaled.jpg
END:VEVENT
BEGIN:VEVENT
DTSTART;TZID=America/New_York:20220909T080000
DTEND;TZID=America/New_York:20220909T093000
DTSTAMP:20260420T114941
CREATED:20220415T155252Z
LAST-MODIFIED:20220415T160745Z
UID:10000722-1662710400-1662715800@lighthouseinn.com
SUMMARY:Waterfront Restaurant Breakfast
DESCRIPTION:Waterfront Restaurant open for breakfast 8-9:30am
URL:https://lighthouseinn.com/event/waterfront-restaurant-breakfast/2022-09-09/
CATEGORIES:Dining Schedule
ATTACH;FMTTYPE=image/jpeg:https://lighthouseinn.com/wp-content/uploads/2022/04/1-157-scaled.jpg
END:VEVENT
BEGIN:VEVENT
DTSTART;TZID=America/New_York:20220908T120000
DTEND;TZID=America/New_York:20220908T150000
DTSTAMP:20260420T114941
CREATED:20220415T170652Z
LAST-MODIFIED:20220415T171118Z
UID:10000787-1662638400-1662649200@lighthouseinn.com
SUMMARY:Waterfront Restaurant Lunch
DESCRIPTION:Waterfront Restaurant Lunch open 12-3pm
URL:https://lighthouseinn.com/event/waterfront-restaurant-lunch-3/2022-09-08/
CATEGORIES:Dining Schedule
ATTACH;FMTTYPE=image/jpeg:https://lighthouseinn.com/wp-content/uploads/2022/01/DSC03825-scaled.jpg
END:VEVENT
BEGIN:VEVENT
DTSTART;TZID=America/New_York:20220908T080000
DTEND;TZID=America/New_York:20220908T093000
DTSTAMP:20260420T114941
CREATED:20220415T155252Z
LAST-MODIFIED:20220415T160745Z
UID:10000721-1662624000-1662629400@lighthouseinn.com
SUMMARY:Waterfront Restaurant Breakfast
DESCRIPTION:Waterfront Restaurant open for breakfast 8-9:30am
URL:https://lighthouseinn.com/event/waterfront-restaurant-breakfast/2022-09-08/
CATEGORIES:Dining Schedule
ATTACH;FMTTYPE=image/jpeg:https://lighthouseinn.com/wp-content/uploads/2022/04/1-157-scaled.jpg
END:VEVENT
BEGIN:VEVENT
DTSTART;TZID=America/New_York:20220907T120000
DTEND;TZID=America/New_York:20220907T150000
DTSTAMP:20260420T114941
CREATED:20220415T170652Z
LAST-MODIFIED:20220415T171118Z
UID:10000786-1662552000-1662562800@lighthouseinn.com
SUMMARY:Waterfront Restaurant Lunch
DESCRIPTION:Waterfront Restaurant Lunch open 12-3pm
URL:https://lighthouseinn.com/event/waterfront-restaurant-lunch-3/2022-09-07/
CATEGORIES:Dining Schedule
ATTACH;FMTTYPE=image/jpeg:https://lighthouseinn.com/wp-content/uploads/2022/01/DSC03825-scaled.jpg
END:VEVENT
BEGIN:VEVENT
DTSTART;TZID=America/New_York:20220907T080000
DTEND;TZID=America/New_York:20220907T093000
DTSTAMP:20260420T114941
CREATED:20220415T155252Z
LAST-MODIFIED:20220415T160745Z
UID:10000720-1662537600-1662543000@lighthouseinn.com
SUMMARY:Waterfront Restaurant Breakfast
DESCRIPTION:Waterfront Restaurant open for breakfast 8-9:30am
URL:https://lighthouseinn.com/event/waterfront-restaurant-breakfast/2022-09-07/
CATEGORIES:Dining Schedule
ATTACH;FMTTYPE=image/jpeg:https://lighthouseinn.com/wp-content/uploads/2022/04/1-157-scaled.jpg
END:VEVENT
BEGIN:VEVENT
DTSTART;TZID=America/New_York:20220906T120000
DTEND;TZID=America/New_York:20220906T150000
DTSTAMP:20260420T114941
CREATED:20220415T170652Z
LAST-MODIFIED:20220415T171118Z
UID:10000785-1662465600-1662476400@lighthouseinn.com
SUMMARY:Waterfront Restaurant Lunch
DESCRIPTION:Waterfront Restaurant Lunch open 12-3pm
URL:https://lighthouseinn.com/event/waterfront-restaurant-lunch-3/2022-09-06/
CATEGORIES:Dining Schedule
ATTACH;FMTTYPE=image/jpeg:https://lighthouseinn.com/wp-content/uploads/2022/01/DSC03825-scaled.jpg
END:VEVENT
BEGIN:VEVENT
DTSTART;TZID=America/New_York:20220906T080000
DTEND;TZID=America/New_York:20220906T093000
DTSTAMP:20260420T114941
CREATED:20220415T155252Z
LAST-MODIFIED:20220415T160745Z
UID:10000719-1662451200-1662456600@lighthouseinn.com
SUMMARY:Waterfront Restaurant Breakfast
DESCRIPTION:Waterfront Restaurant open for breakfast 8-9:30am
URL:https://lighthouseinn.com/event/waterfront-restaurant-breakfast/2022-09-06/
CATEGORIES:Dining Schedule
ATTACH;FMTTYPE=image/jpeg:https://lighthouseinn.com/wp-content/uploads/2022/04/1-157-scaled.jpg
END:VEVENT
BEGIN:VEVENT
DTSTART;TZID=America/New_York:20220905T120000
DTEND;TZID=America/New_York:20220905T150000
DTSTAMP:20260420T114941
CREATED:20220415T170652Z
LAST-MODIFIED:20220415T171118Z
UID:10000784-1662379200-1662390000@lighthouseinn.com
SUMMARY:Waterfront Restaurant Lunch
DESCRIPTION:Waterfront Restaurant Lunch open 12-3pm
URL:https://lighthouseinn.com/event/waterfront-restaurant-lunch-3/2022-09-05/
CATEGORIES:Dining Schedule
ATTACH;FMTTYPE=image/jpeg:https://lighthouseinn.com/wp-content/uploads/2022/01/DSC03825-scaled.jpg
END:VEVENT
BEGIN:VEVENT
DTSTART;TZID=America/New_York:20220905T080000
DTEND;TZID=America/New_York:20220905T093000
DTSTAMP:20260420T114941
CREATED:20220415T155252Z
LAST-MODIFIED:20220415T160745Z
UID:10000718-1662364800-1662370200@lighthouseinn.com
SUMMARY:Waterfront Restaurant Breakfast
DESCRIPTION:Waterfront Restaurant open for breakfast 8-9:30am
URL:https://lighthouseinn.com/event/waterfront-restaurant-breakfast/2022-09-05/
CATEGORIES:Dining Schedule
ATTACH;FMTTYPE=image/jpeg:https://lighthouseinn.com/wp-content/uploads/2022/04/1-157-scaled.jpg
END:VEVENT
BEGIN:VEVENT
DTSTART;TZID=America/New_York:20220904T080000
DTEND;TZID=America/New_York:20220904T093000
DTSTAMP:20260420T114941
CREATED:20220415T155252Z
LAST-MODIFIED:20220415T160745Z
UID:10000717-1662278400-1662283800@lighthouseinn.com
SUMMARY:Waterfront Restaurant Breakfast
DESCRIPTION:Waterfront Restaurant open for breakfast 8-9:30am
URL:https://lighthouseinn.com/event/waterfront-restaurant-breakfast/2022-09-04/
CATEGORIES:Dining Schedule
ATTACH;FMTTYPE=image/jpeg:https://lighthouseinn.com/wp-content/uploads/2022/04/1-157-scaled.jpg
END:VEVENT
BEGIN:VEVENT
DTSTART;TZID=America/New_York:20220903T120000
DTEND;TZID=America/New_York:20220903T150000
DTSTAMP:20260420T114941
CREATED:20220415T170652Z
LAST-MODIFIED:20220415T171118Z
UID:10000783-1662206400-1662217200@lighthouseinn.com
SUMMARY:Waterfront Restaurant Lunch
DESCRIPTION:Waterfront Restaurant Lunch open 12-3pm
URL:https://lighthouseinn.com/event/waterfront-restaurant-lunch-3/2022-09-03/
CATEGORIES:Dining Schedule
ATTACH;FMTTYPE=image/jpeg:https://lighthouseinn.com/wp-content/uploads/2022/01/DSC03825-scaled.jpg
END:VEVENT
BEGIN:VEVENT
DTSTART;TZID=America/New_York:20220903T080000
DTEND;TZID=America/New_York:20220903T093000
DTSTAMP:20260420T114941
CREATED:20220415T155252Z
LAST-MODIFIED:20220415T160745Z
UID:10000716-1662192000-1662197400@lighthouseinn.com
SUMMARY:Waterfront Restaurant Breakfast
DESCRIPTION:Waterfront Restaurant open for breakfast 8-9:30am
URL:https://lighthouseinn.com/event/waterfront-restaurant-breakfast/2022-09-03/
CATEGORIES:Dining Schedule
ATTACH;FMTTYPE=image/jpeg:https://lighthouseinn.com/wp-content/uploads/2022/04/1-157-scaled.jpg
END:VEVENT
BEGIN:VEVENT
DTSTART;TZID=America/New_York:20220902T170000
DTEND;TZID=America/New_York:20220902T203000
DTSTAMP:20260420T114941
CREATED:20220415T171827Z
LAST-MODIFIED:20220415T172040Z
UID:10000838-1662138000-1662150600@lighthouseinn.com
SUMMARY:Waterfront Restaurant Dinner
DESCRIPTION:Waterfront Restaurant at Lighthouse Inn Dinner 5-8:30pm
URL:https://lighthouseinn.com/event/waterfront-restaurant-dinner/2022-09-02/
CATEGORIES:Dining Schedule
ATTACH;FMTTYPE=image/jpeg:https://lighthouseinn.com/wp-content/uploads/2020/06/1-676-Copy-1920x1024-1.jpg
END:VEVENT
BEGIN:VEVENT
DTSTART;TZID=America/New_York:20220902T080000
DTEND;TZID=America/New_York:20220902T093000
DTSTAMP:20260420T114942
CREATED:20220415T155252Z
LAST-MODIFIED:20220415T160745Z
UID:10000715-1662105600-1662111000@lighthouseinn.com
SUMMARY:Waterfront Restaurant Breakfast
DESCRIPTION:Waterfront Restaurant open for breakfast 8-9:30am
URL:https://lighthouseinn.com/event/waterfront-restaurant-breakfast/2022-09-02/
CATEGORIES:Dining Schedule
ATTACH;FMTTYPE=image/jpeg:https://lighthouseinn.com/wp-content/uploads/2022/04/1-157-scaled.jpg
END:VEVENT
BEGIN:VEVENT
DTSTART;TZID=America/New_York:20220901T170000
DTEND;TZID=America/New_York:20220901T203000
DTSTAMP:20260420T114942
CREATED:20220415T171827Z
LAST-MODIFIED:20220415T172040Z
UID:10000837-1662051600-1662064200@lighthouseinn.com
SUMMARY:Waterfront Restaurant Dinner
DESCRIPTION:Waterfront Restaurant at Lighthouse Inn Dinner 5-8:30pm
URL:https://lighthouseinn.com/event/waterfront-restaurant-dinner/2022-09-01/
CATEGORIES:Dining Schedule
ATTACH;FMTTYPE=image/jpeg:https://lighthouseinn.com/wp-content/uploads/2020/06/1-676-Copy-1920x1024-1.jpg
END:VEVENT
BEGIN:VEVENT
DTSTART;TZID=America/New_York:20220901T080000
DTEND;TZID=America/New_York:20220901T093000
DTSTAMP:20260420T114942
CREATED:20220415T155252Z
LAST-MODIFIED:20220415T160745Z
UID:10000714-1662019200-1662024600@lighthouseinn.com
SUMMARY:Waterfront Restaurant Breakfast
DESCRIPTION:Waterfront Restaurant open for breakfast 8-9:30am
URL:https://lighthouseinn.com/event/waterfront-restaurant-breakfast/2022-09-01/
CATEGORIES:Dining Schedule
ATTACH;FMTTYPE=image/jpeg:https://lighthouseinn.com/wp-content/uploads/2022/04/1-157-scaled.jpg
END:VEVENT
BEGIN:VEVENT
DTSTART;TZID=America/New_York:20220831T170000
DTEND;TZID=America/New_York:20220831T203000
DTSTAMP:20260420T114942
CREATED:20220415T171827Z
LAST-MODIFIED:20220415T172040Z
UID:10000836-1661965200-1661977800@lighthouseinn.com
SUMMARY:Waterfront Restaurant Dinner
DESCRIPTION:Waterfront Restaurant at Lighthouse Inn Dinner 5-8:30pm
URL:https://lighthouseinn.com/event/waterfront-restaurant-dinner/2022-08-31/
CATEGORIES:Dining Schedule
ATTACH;FMTTYPE=image/jpeg:https://lighthouseinn.com/wp-content/uploads/2020/06/1-676-Copy-1920x1024-1.jpg
END:VEVENT
BEGIN:VEVENT
DTSTART;TZID=America/New_York:20220831T080000
DTEND;TZID=America/New_York:20220831T093000
DTSTAMP:20260420T114942
CREATED:20220415T155252Z
LAST-MODIFIED:20220415T160745Z
UID:10000713-1661932800-1661938200@lighthouseinn.com
SUMMARY:Waterfront Restaurant Breakfast
DESCRIPTION:Waterfront Restaurant open for breakfast 8-9:30am
URL:https://lighthouseinn.com/event/waterfront-restaurant-breakfast/2022-08-31/
CATEGORIES:Dining Schedule
ATTACH;FMTTYPE=image/jpeg:https://lighthouseinn.com/wp-content/uploads/2022/04/1-157-scaled.jpg
END:VEVENT
BEGIN:VEVENT
DTSTART;TZID=America/New_York:20220830T170000
DTEND;TZID=America/New_York:20220830T203000
DTSTAMP:20260420T114942
CREATED:20220415T171827Z
LAST-MODIFIED:20220415T172040Z
UID:10000835-1661878800-1661891400@lighthouseinn.com
SUMMARY:Waterfront Restaurant Dinner
DESCRIPTION:Waterfront Restaurant at Lighthouse Inn Dinner 5-8:30pm
URL:https://lighthouseinn.com/event/waterfront-restaurant-dinner/2022-08-30/
CATEGORIES:Dining Schedule
ATTACH;FMTTYPE=image/jpeg:https://lighthouseinn.com/wp-content/uploads/2020/06/1-676-Copy-1920x1024-1.jpg
END:VEVENT
BEGIN:VEVENT
DTSTART;TZID=America/New_York:20220830T080000
DTEND;TZID=America/New_York:20220830T093000
DTSTAMP:20260420T114942
CREATED:20220415T155252Z
LAST-MODIFIED:20220415T160745Z
UID:10000712-1661846400-1661851800@lighthouseinn.com
SUMMARY:Waterfront Restaurant Breakfast
DESCRIPTION:Waterfront Restaurant open for breakfast 8-9:30am
URL:https://lighthouseinn.com/event/waterfront-restaurant-breakfast/2022-08-30/
CATEGORIES:Dining Schedule
ATTACH;FMTTYPE=image/jpeg:https://lighthouseinn.com/wp-content/uploads/2022/04/1-157-scaled.jpg
END:VEVENT
BEGIN:VEVENT
DTSTART;TZID=America/New_York:20220829T170000
DTEND;TZID=America/New_York:20220829T203000
DTSTAMP:20260420T114942
CREATED:20220415T171827Z
LAST-MODIFIED:20220415T172040Z
UID:10000834-1661792400-1661805000@lighthouseinn.com
SUMMARY:Waterfront Restaurant Dinner
DESCRIPTION:Waterfront Restaurant at Lighthouse Inn Dinner 5-8:30pm
URL:https://lighthouseinn.com/event/waterfront-restaurant-dinner/2022-08-29/
CATEGORIES:Dining Schedule
ATTACH;FMTTYPE=image/jpeg:https://lighthouseinn.com/wp-content/uploads/2020/06/1-676-Copy-1920x1024-1.jpg
END:VEVENT
BEGIN:VEVENT
DTSTART;TZID=America/New_York:20220829T080000
DTEND;TZID=America/New_York:20220829T093000
DTSTAMP:20260420T114942
CREATED:20220415T155252Z
LAST-MODIFIED:20220415T160745Z
UID:10000711-1661760000-1661765400@lighthouseinn.com
SUMMARY:Waterfront Restaurant Breakfast
DESCRIPTION:Waterfront Restaurant open for breakfast 8-9:30am
URL:https://lighthouseinn.com/event/waterfront-restaurant-breakfast/2022-08-29/
CATEGORIES:Dining Schedule
ATTACH;FMTTYPE=image/jpeg:https://lighthouseinn.com/wp-content/uploads/2022/04/1-157-scaled.jpg
END:VEVENT
BEGIN:VEVENT
DTSTART;TZID=America/New_York:20220828T080000
DTEND;TZID=America/New_York:20220828T093000
DTSTAMP:20260420T114942
CREATED:20220415T155252Z
LAST-MODIFIED:20220415T160745Z
UID:10000710-1661673600-1661679000@lighthouseinn.com
SUMMARY:Waterfront Restaurant Breakfast
DESCRIPTION:Waterfront Restaurant open for breakfast 8-9:30am
URL:https://lighthouseinn.com/event/waterfront-restaurant-breakfast/2022-08-28/
CATEGORIES:Dining Schedule
ATTACH;FMTTYPE=image/jpeg:https://lighthouseinn.com/wp-content/uploads/2022/04/1-157-scaled.jpg
END:VEVENT
BEGIN:VEVENT
DTSTART;TZID=America/New_York:20220827T080000
DTEND;TZID=America/New_York:20220827T093000
DTSTAMP:20260420T114942
CREATED:20220415T155252Z
LAST-MODIFIED:20220415T160745Z
UID:10000709-1661587200-1661592600@lighthouseinn.com
SUMMARY:Waterfront Restaurant Breakfast
DESCRIPTION:Waterfront Restaurant open for breakfast 8-9:30am
URL:https://lighthouseinn.com/event/waterfront-restaurant-breakfast/2022-08-27/
CATEGORIES:Dining Schedule
ATTACH;FMTTYPE=image/jpeg:https://lighthouseinn.com/wp-content/uploads/2022/04/1-157-scaled.jpg
END:VEVENT
END:VCALENDAR