BEGIN:VCALENDAR
VERSION:2.0
PRODID:-//The Lighthouse Inn - ECPv6.15.18//NONSGML v1.0//EN
CALSCALE:GREGORIAN
METHOD:PUBLISH
X-WR-CALNAME:The Lighthouse Inn
X-ORIGINAL-URL:https://lighthouseinn.com
X-WR-CALDESC:Events for The Lighthouse Inn
REFRESH-INTERVAL;VALUE=DURATION:PT1H
X-Robots-Tag:noindex
X-PUBLISHED-TTL:PT1H
BEGIN:VTIMEZONE
TZID:America/New_York
BEGIN:DAYLIGHT
TZOFFSETFROM:-0500
TZOFFSETTO:-0400
TZNAME:EDT
DTSTART:20210314T070000
END:DAYLIGHT
BEGIN:STANDARD
TZOFFSETFROM:-0400
TZOFFSETTO:-0500
TZNAME:EST
DTSTART:20211107T060000
END:STANDARD
BEGIN:DAYLIGHT
TZOFFSETFROM:-0500
TZOFFSETTO:-0400
TZNAME:EDT
DTSTART:20220313T070000
END:DAYLIGHT
BEGIN:STANDARD
TZOFFSETFROM:-0400
TZOFFSETTO:-0500
TZNAME:EST
DTSTART:20221106T060000
END:STANDARD
BEGIN:DAYLIGHT
TZOFFSETFROM:-0500
TZOFFSETTO:-0400
TZNAME:EDT
DTSTART:20230312T070000
END:DAYLIGHT
BEGIN:STANDARD
TZOFFSETFROM:-0400
TZOFFSETTO:-0500
TZNAME:EST
DTSTART:20231105T060000
END:STANDARD
END:VTIMEZONE
BEGIN:VEVENT
DTSTART;TZID=America/New_York:20220711T170000
DTEND;TZID=America/New_York:20220711T203000
DTSTAMP:20260425T101429
CREATED:20220415T171827Z
LAST-MODIFIED:20220415T172040Z
UID:10000799-1657558800-1657571400@lighthouseinn.com
SUMMARY:Waterfront Restaurant Dinner
DESCRIPTION:Waterfront Restaurant at Lighthouse Inn Dinner 5-8:30pm
URL:https://lighthouseinn.com/event/waterfront-restaurant-dinner/2022-07-11/
CATEGORIES:Dining Schedule
ATTACH;FMTTYPE=image/jpeg:https://lighthouseinn.com/wp-content/uploads/2020/06/1-676-Copy-1920x1024-1.jpg
END:VEVENT
BEGIN:VEVENT
DTSTART;TZID=America/New_York:20220711T120000
DTEND;TZID=America/New_York:20220711T150000
DTSTAMP:20260425T101429
CREATED:20220415T163635Z
LAST-MODIFIED:20220415T164253Z
UID:10000743-1657540800-1657551600@lighthouseinn.com
SUMMARY:Waterfront Restaurant Lunch
DESCRIPTION:Waterfront Restaurant Lunch open 12-3pm
URL:https://lighthouseinn.com/event/waterfront-restaurant-lunch-2/2022-07-11/
CATEGORIES:Dining Schedule
ATTACH;FMTTYPE=image/jpeg:https://lighthouseinn.com/wp-content/uploads/2022/01/DSC03825-scaled.jpg
END:VEVENT
BEGIN:VEVENT
DTSTART;TZID=America/New_York:20220711T080000
DTEND;TZID=America/New_York:20220711T093000
DTSTAMP:20260425T101429
CREATED:20220415T155252Z
LAST-MODIFIED:20220415T160745Z
UID:10000662-1657526400-1657531800@lighthouseinn.com
SUMMARY:Waterfront Restaurant Breakfast
DESCRIPTION:Waterfront Restaurant open for breakfast 8-9:30am
URL:https://lighthouseinn.com/event/waterfront-restaurant-breakfast/2022-07-11/
CATEGORIES:Dining Schedule
ATTACH;FMTTYPE=image/jpeg:https://lighthouseinn.com/wp-content/uploads/2022/04/1-157-scaled.jpg
END:VEVENT
BEGIN:VEVENT
DTSTART;TZID=America/New_York:20220710T120000
DTEND;TZID=America/New_York:20220710T203000
DTSTAMP:20260425T101429
CREATED:20220415T174655Z
LAST-MODIFIED:20220415T174803Z
UID:10000842-1657454400-1657485000@lighthouseinn.com
SUMMARY:Waterfront Restaurant Lunch & Dinner
DESCRIPTION:Waterfront Restaurant lunch & dinner served 12-8:30pm
URL:https://lighthouseinn.com/event/waterfront-restaurant-lunch-dinner/2022-07-10/
CATEGORIES:Dining Schedule
ATTACH;FMTTYPE=image/jpeg:https://lighthouseinn.com/wp-content/uploads/2022/04/1-676-Copy-scaled.jpg
END:VEVENT
BEGIN:VEVENT
DTSTART;TZID=America/New_York:20220710T080000
DTEND;TZID=America/New_York:20220710T093000
DTSTAMP:20260425T101429
CREATED:20220415T155252Z
LAST-MODIFIED:20220415T160745Z
UID:10000661-1657440000-1657445400@lighthouseinn.com
SUMMARY:Waterfront Restaurant Breakfast
DESCRIPTION:Waterfront Restaurant open for breakfast 8-9:30am
URL:https://lighthouseinn.com/event/waterfront-restaurant-breakfast/2022-07-10/
CATEGORIES:Dining Schedule
ATTACH;FMTTYPE=image/jpeg:https://lighthouseinn.com/wp-content/uploads/2022/04/1-157-scaled.jpg
END:VEVENT
BEGIN:VEVENT
DTSTART;TZID=America/New_York:20220709T120000
DTEND;TZID=America/New_York:20220709T203000
DTSTAMP:20260425T101429
CREATED:20220415T174655Z
LAST-MODIFIED:20220415T174803Z
UID:10000841-1657368000-1657398600@lighthouseinn.com
SUMMARY:Waterfront Restaurant Lunch & Dinner
DESCRIPTION:Waterfront Restaurant lunch & dinner served 12-8:30pm
URL:https://lighthouseinn.com/event/waterfront-restaurant-lunch-dinner/2022-07-09/
CATEGORIES:Dining Schedule
ATTACH;FMTTYPE=image/jpeg:https://lighthouseinn.com/wp-content/uploads/2022/04/1-676-Copy-scaled.jpg
END:VEVENT
BEGIN:VEVENT
DTSTART;TZID=America/New_York:20220709T080000
DTEND;TZID=America/New_York:20220709T093000
DTSTAMP:20260425T101429
CREATED:20220415T155252Z
LAST-MODIFIED:20220415T160745Z
UID:10000660-1657353600-1657359000@lighthouseinn.com
SUMMARY:Waterfront Restaurant Breakfast
DESCRIPTION:Waterfront Restaurant open for breakfast 8-9:30am
URL:https://lighthouseinn.com/event/waterfront-restaurant-breakfast/2022-07-09/
CATEGORIES:Dining Schedule
ATTACH;FMTTYPE=image/jpeg:https://lighthouseinn.com/wp-content/uploads/2022/04/1-157-scaled.jpg
END:VEVENT
BEGIN:VEVENT
DTSTART;TZID=America/New_York:20220708T170000
DTEND;TZID=America/New_York:20220708T203000
DTSTAMP:20260425T101429
CREATED:20220415T171827Z
LAST-MODIFIED:20220415T172040Z
UID:10000798-1657299600-1657312200@lighthouseinn.com
SUMMARY:Waterfront Restaurant Dinner
DESCRIPTION:Waterfront Restaurant at Lighthouse Inn Dinner 5-8:30pm
URL:https://lighthouseinn.com/event/waterfront-restaurant-dinner/2022-07-08/
CATEGORIES:Dining Schedule
ATTACH;FMTTYPE=image/jpeg:https://lighthouseinn.com/wp-content/uploads/2020/06/1-676-Copy-1920x1024-1.jpg
END:VEVENT
BEGIN:VEVENT
DTSTART;TZID=America/New_York:20220708T120000
DTEND;TZID=America/New_York:20220708T150000
DTSTAMP:20260425T101429
CREATED:20220415T163635Z
LAST-MODIFIED:20220415T164253Z
UID:10000742-1657281600-1657292400@lighthouseinn.com
SUMMARY:Waterfront Restaurant Lunch
DESCRIPTION:Waterfront Restaurant Lunch open 12-3pm
URL:https://lighthouseinn.com/event/waterfront-restaurant-lunch-2/2022-07-08/
CATEGORIES:Dining Schedule
ATTACH;FMTTYPE=image/jpeg:https://lighthouseinn.com/wp-content/uploads/2022/01/DSC03825-scaled.jpg
END:VEVENT
BEGIN:VEVENT
DTSTART;TZID=America/New_York:20220708T080000
DTEND;TZID=America/New_York:20220708T093000
DTSTAMP:20260425T101429
CREATED:20220415T155252Z
LAST-MODIFIED:20220415T160745Z
UID:10000659-1657267200-1657272600@lighthouseinn.com
SUMMARY:Waterfront Restaurant Breakfast
DESCRIPTION:Waterfront Restaurant open for breakfast 8-9:30am
URL:https://lighthouseinn.com/event/waterfront-restaurant-breakfast/2022-07-08/
CATEGORIES:Dining Schedule
ATTACH;FMTTYPE=image/jpeg:https://lighthouseinn.com/wp-content/uploads/2022/04/1-157-scaled.jpg
END:VEVENT
BEGIN:VEVENT
DTSTART;TZID=America/New_York:20220707T170000
DTEND;TZID=America/New_York:20220707T203000
DTSTAMP:20260425T101429
CREATED:20220415T171827Z
LAST-MODIFIED:20220415T172040Z
UID:10000797-1657213200-1657225800@lighthouseinn.com
SUMMARY:Waterfront Restaurant Dinner
DESCRIPTION:Waterfront Restaurant at Lighthouse Inn Dinner 5-8:30pm
URL:https://lighthouseinn.com/event/waterfront-restaurant-dinner/2022-07-07/
CATEGORIES:Dining Schedule
ATTACH;FMTTYPE=image/jpeg:https://lighthouseinn.com/wp-content/uploads/2020/06/1-676-Copy-1920x1024-1.jpg
END:VEVENT
BEGIN:VEVENT
DTSTART;TZID=America/New_York:20220707T120000
DTEND;TZID=America/New_York:20220707T150000
DTSTAMP:20260425T101429
CREATED:20220415T163635Z
LAST-MODIFIED:20220415T164253Z
UID:10000741-1657195200-1657206000@lighthouseinn.com
SUMMARY:Waterfront Restaurant Lunch
DESCRIPTION:Waterfront Restaurant Lunch open 12-3pm
URL:https://lighthouseinn.com/event/waterfront-restaurant-lunch-2/2022-07-07/
CATEGORIES:Dining Schedule
ATTACH;FMTTYPE=image/jpeg:https://lighthouseinn.com/wp-content/uploads/2022/01/DSC03825-scaled.jpg
END:VEVENT
BEGIN:VEVENT
DTSTART;TZID=America/New_York:20220707T080000
DTEND;TZID=America/New_York:20220707T093000
DTSTAMP:20260425T101429
CREATED:20220415T155252Z
LAST-MODIFIED:20220415T160745Z
UID:10000658-1657180800-1657186200@lighthouseinn.com
SUMMARY:Waterfront Restaurant Breakfast
DESCRIPTION:Waterfront Restaurant open for breakfast 8-9:30am
URL:https://lighthouseinn.com/event/waterfront-restaurant-breakfast/2022-07-07/
CATEGORIES:Dining Schedule
ATTACH;FMTTYPE=image/jpeg:https://lighthouseinn.com/wp-content/uploads/2022/04/1-157-scaled.jpg
END:VEVENT
BEGIN:VEVENT
DTSTART;TZID=America/New_York:20220706T170000
DTEND;TZID=America/New_York:20220706T203000
DTSTAMP:20260425T101429
CREATED:20220415T171827Z
LAST-MODIFIED:20220415T172040Z
UID:10000796-1657126800-1657139400@lighthouseinn.com
SUMMARY:Waterfront Restaurant Dinner
DESCRIPTION:Waterfront Restaurant at Lighthouse Inn Dinner 5-8:30pm
URL:https://lighthouseinn.com/event/waterfront-restaurant-dinner/2022-07-06/
CATEGORIES:Dining Schedule
ATTACH;FMTTYPE=image/jpeg:https://lighthouseinn.com/wp-content/uploads/2020/06/1-676-Copy-1920x1024-1.jpg
END:VEVENT
BEGIN:VEVENT
DTSTART;TZID=America/New_York:20220706T120000
DTEND;TZID=America/New_York:20220706T150000
DTSTAMP:20260425T101429
CREATED:20220415T163635Z
LAST-MODIFIED:20220415T164253Z
UID:10000740-1657108800-1657119600@lighthouseinn.com
SUMMARY:Waterfront Restaurant Lunch
DESCRIPTION:Waterfront Restaurant Lunch open 12-3pm
URL:https://lighthouseinn.com/event/waterfront-restaurant-lunch-2/2022-07-06/
CATEGORIES:Dining Schedule
ATTACH;FMTTYPE=image/jpeg:https://lighthouseinn.com/wp-content/uploads/2022/01/DSC03825-scaled.jpg
END:VEVENT
BEGIN:VEVENT
DTSTART;TZID=America/New_York:20220706T080000
DTEND;TZID=America/New_York:20220706T093000
DTSTAMP:20260425T101429
CREATED:20220415T155252Z
LAST-MODIFIED:20220415T160745Z
UID:10000657-1657094400-1657099800@lighthouseinn.com
SUMMARY:Waterfront Restaurant Breakfast
DESCRIPTION:Waterfront Restaurant open for breakfast 8-9:30am
URL:https://lighthouseinn.com/event/waterfront-restaurant-breakfast/2022-07-06/
CATEGORIES:Dining Schedule
ATTACH;FMTTYPE=image/jpeg:https://lighthouseinn.com/wp-content/uploads/2022/04/1-157-scaled.jpg
END:VEVENT
BEGIN:VEVENT
DTSTART;TZID=America/New_York:20220705T170000
DTEND;TZID=America/New_York:20220705T203000
DTSTAMP:20260425T101429
CREATED:20220415T171827Z
LAST-MODIFIED:20220415T172040Z
UID:10000795-1657040400-1657053000@lighthouseinn.com
SUMMARY:Waterfront Restaurant Dinner
DESCRIPTION:Waterfront Restaurant at Lighthouse Inn Dinner 5-8:30pm
URL:https://lighthouseinn.com/event/waterfront-restaurant-dinner/2022-07-05/
CATEGORIES:Dining Schedule
ATTACH;FMTTYPE=image/jpeg:https://lighthouseinn.com/wp-content/uploads/2020/06/1-676-Copy-1920x1024-1.jpg
END:VEVENT
BEGIN:VEVENT
DTSTART;TZID=America/New_York:20220705T120000
DTEND;TZID=America/New_York:20220705T150000
DTSTAMP:20260425T101429
CREATED:20220415T163635Z
LAST-MODIFIED:20220415T164253Z
UID:10000739-1657022400-1657033200@lighthouseinn.com
SUMMARY:Waterfront Restaurant Lunch
DESCRIPTION:Waterfront Restaurant Lunch open 12-3pm
URL:https://lighthouseinn.com/event/waterfront-restaurant-lunch-2/2022-07-05/
CATEGORIES:Dining Schedule
ATTACH;FMTTYPE=image/jpeg:https://lighthouseinn.com/wp-content/uploads/2022/01/DSC03825-scaled.jpg
END:VEVENT
BEGIN:VEVENT
DTSTART;TZID=America/New_York:20220705T080000
DTEND;TZID=America/New_York:20220705T093000
DTSTAMP:20260425T101429
CREATED:20220415T155252Z
LAST-MODIFIED:20220415T160745Z
UID:10000656-1657008000-1657013400@lighthouseinn.com
SUMMARY:Waterfront Restaurant Breakfast
DESCRIPTION:Waterfront Restaurant open for breakfast 8-9:30am
URL:https://lighthouseinn.com/event/waterfront-restaurant-breakfast/2022-07-05/
CATEGORIES:Dining Schedule
ATTACH;FMTTYPE=image/jpeg:https://lighthouseinn.com/wp-content/uploads/2022/04/1-157-scaled.jpg
END:VEVENT
BEGIN:VEVENT
DTSTART;TZID=America/New_York:20220704T170000
DTEND;TZID=America/New_York:20220704T203000
DTSTAMP:20260425T101429
CREATED:20220415T171827Z
LAST-MODIFIED:20220415T172040Z
UID:10000794-1656954000-1656966600@lighthouseinn.com
SUMMARY:Waterfront Restaurant Dinner
DESCRIPTION:Waterfront Restaurant at Lighthouse Inn Dinner 5-8:30pm
URL:https://lighthouseinn.com/event/waterfront-restaurant-dinner/2022-07-04/
CATEGORIES:Dining Schedule
ATTACH;FMTTYPE=image/jpeg:https://lighthouseinn.com/wp-content/uploads/2020/06/1-676-Copy-1920x1024-1.jpg
END:VEVENT
BEGIN:VEVENT
DTSTART;TZID=America/New_York:20220704T120000
DTEND;TZID=America/New_York:20220704T150000
DTSTAMP:20260425T101429
CREATED:20220415T163635Z
LAST-MODIFIED:20220415T164253Z
UID:10000738-1656936000-1656946800@lighthouseinn.com
SUMMARY:Waterfront Restaurant Lunch
DESCRIPTION:Waterfront Restaurant Lunch open 12-3pm
URL:https://lighthouseinn.com/event/waterfront-restaurant-lunch-2/2022-07-04/
CATEGORIES:Dining Schedule
ATTACH;FMTTYPE=image/jpeg:https://lighthouseinn.com/wp-content/uploads/2022/01/DSC03825-scaled.jpg
END:VEVENT
BEGIN:VEVENT
DTSTART;TZID=America/New_York:20220704T080000
DTEND;TZID=America/New_York:20220704T093000
DTSTAMP:20260425T101429
CREATED:20220415T155252Z
LAST-MODIFIED:20220415T160745Z
UID:10000655-1656921600-1656927000@lighthouseinn.com
SUMMARY:Waterfront Restaurant Breakfast
DESCRIPTION:Waterfront Restaurant open for breakfast 8-9:30am
URL:https://lighthouseinn.com/event/waterfront-restaurant-breakfast/2022-07-04/
CATEGORIES:Dining Schedule
ATTACH;FMTTYPE=image/jpeg:https://lighthouseinn.com/wp-content/uploads/2022/04/1-157-scaled.jpg
END:VEVENT
BEGIN:VEVENT
DTSTART;TZID=America/New_York:20220703T120000
DTEND;TZID=America/New_York:20220703T203000
DTSTAMP:20260425T101429
CREATED:20220415T174655Z
LAST-MODIFIED:20220415T174803Z
UID:10000840-1656849600-1656880200@lighthouseinn.com
SUMMARY:Waterfront Restaurant Lunch & Dinner
DESCRIPTION:Waterfront Restaurant lunch & dinner served 12-8:30pm
URL:https://lighthouseinn.com/event/waterfront-restaurant-lunch-dinner/2022-07-03/
CATEGORIES:Dining Schedule
ATTACH;FMTTYPE=image/jpeg:https://lighthouseinn.com/wp-content/uploads/2022/04/1-676-Copy-scaled.jpg
END:VEVENT
BEGIN:VEVENT
DTSTART;TZID=America/New_York:20220703T080000
DTEND;TZID=America/New_York:20220703T093000
DTSTAMP:20260425T101429
CREATED:20220415T155252Z
LAST-MODIFIED:20220415T160745Z
UID:10000654-1656835200-1656840600@lighthouseinn.com
SUMMARY:Waterfront Restaurant Breakfast
DESCRIPTION:Waterfront Restaurant open for breakfast 8-9:30am
URL:https://lighthouseinn.com/event/waterfront-restaurant-breakfast/2022-07-03/
CATEGORIES:Dining Schedule
ATTACH;FMTTYPE=image/jpeg:https://lighthouseinn.com/wp-content/uploads/2022/04/1-157-scaled.jpg
END:VEVENT
BEGIN:VEVENT
DTSTART;TZID=America/New_York:20220702T120000
DTEND;TZID=America/New_York:20220702T203000
DTSTAMP:20260425T101429
CREATED:20220415T174655Z
LAST-MODIFIED:20220415T174803Z
UID:10000839-1656763200-1656793800@lighthouseinn.com
SUMMARY:Waterfront Restaurant Lunch & Dinner
DESCRIPTION:Waterfront Restaurant lunch & dinner served 12-8:30pm
URL:https://lighthouseinn.com/event/waterfront-restaurant-lunch-dinner/2022-07-02/
CATEGORIES:Dining Schedule
ATTACH;FMTTYPE=image/jpeg:https://lighthouseinn.com/wp-content/uploads/2022/04/1-676-Copy-scaled.jpg
END:VEVENT
BEGIN:VEVENT
DTSTART;TZID=America/New_York:20220702T080000
DTEND;TZID=America/New_York:20220702T093000
DTSTAMP:20260425T101429
CREATED:20220415T155252Z
LAST-MODIFIED:20220415T160745Z
UID:10000653-1656748800-1656754200@lighthouseinn.com
SUMMARY:Waterfront Restaurant Breakfast
DESCRIPTION:Waterfront Restaurant open for breakfast 8-9:30am
URL:https://lighthouseinn.com/event/waterfront-restaurant-breakfast/2022-07-02/
CATEGORIES:Dining Schedule
ATTACH;FMTTYPE=image/jpeg:https://lighthouseinn.com/wp-content/uploads/2022/04/1-157-scaled.jpg
END:VEVENT
BEGIN:VEVENT
DTSTART;TZID=America/New_York:20220701T170000
DTEND;TZID=America/New_York:20220701T203000
DTSTAMP:20260425T101429
CREATED:20220415T171827Z
LAST-MODIFIED:20220415T172040Z
UID:10000793-1656694800-1656707400@lighthouseinn.com
SUMMARY:Waterfront Restaurant Dinner
DESCRIPTION:Waterfront Restaurant at Lighthouse Inn Dinner 5-8:30pm
URL:https://lighthouseinn.com/event/waterfront-restaurant-dinner/2022-07-01/
CATEGORIES:Dining Schedule
ATTACH;FMTTYPE=image/jpeg:https://lighthouseinn.com/wp-content/uploads/2020/06/1-676-Copy-1920x1024-1.jpg
END:VEVENT
BEGIN:VEVENT
DTSTART;TZID=America/New_York:20220701T120000
DTEND;TZID=America/New_York:20220701T150000
DTSTAMP:20260425T101429
CREATED:20220415T163635Z
LAST-MODIFIED:20220415T164253Z
UID:10000737-1656676800-1656687600@lighthouseinn.com
SUMMARY:Waterfront Restaurant Lunch
DESCRIPTION:Waterfront Restaurant Lunch open 12-3pm
URL:https://lighthouseinn.com/event/waterfront-restaurant-lunch-2/2022-07-01/
CATEGORIES:Dining Schedule
ATTACH;FMTTYPE=image/jpeg:https://lighthouseinn.com/wp-content/uploads/2022/01/DSC03825-scaled.jpg
END:VEVENT
BEGIN:VEVENT
DTSTART;TZID=America/New_York:20220701T080000
DTEND;TZID=America/New_York:20220701T093000
DTSTAMP:20260425T101429
CREATED:20220415T155252Z
LAST-MODIFIED:20220415T160745Z
UID:10000652-1656662400-1656667800@lighthouseinn.com
SUMMARY:Waterfront Restaurant Breakfast
DESCRIPTION:Waterfront Restaurant open for breakfast 8-9:30am
URL:https://lighthouseinn.com/event/waterfront-restaurant-breakfast/2022-07-01/
CATEGORIES:Dining Schedule
ATTACH;FMTTYPE=image/jpeg:https://lighthouseinn.com/wp-content/uploads/2022/04/1-157-scaled.jpg
END:VEVENT
BEGIN:VEVENT
DTSTART;TZID=America/New_York:20220630T170000
DTEND;TZID=America/New_York:20220630T203000
DTSTAMP:20260425T101429
CREATED:20220415T171827Z
LAST-MODIFIED:20220415T172040Z
UID:10000792-1656608400-1656621000@lighthouseinn.com
SUMMARY:Waterfront Restaurant Dinner
DESCRIPTION:Waterfront Restaurant at Lighthouse Inn Dinner 5-8:30pm
URL:https://lighthouseinn.com/event/waterfront-restaurant-dinner/2022-06-30/
CATEGORIES:Dining Schedule
ATTACH;FMTTYPE=image/jpeg:https://lighthouseinn.com/wp-content/uploads/2020/06/1-676-Copy-1920x1024-1.jpg
END:VEVENT
END:VCALENDAR